BEGIN:VCALENDAR
VERSION:2.0
PRODID:-//Collector95 - ECPv5.10.0//NONSGML v1.0//EN
CALSCALE:GREGORIAN
METHOD:PUBLISH
X-WR-CALNAME:Collector95
X-ORIGINAL-URL:https://collector95.fr
X-WR-CALDESC:évènements pour Collector95
BEGIN:VTIMEZONE
TZID:Europe/Paris
BEGIN:DAYLIGHT
TZOFFSETFROM:+0100
TZOFFSETTO:+0200
TZNAME:CEST
DTSTART:20220327T010000
END:DAYLIGHT
BEGIN:STANDARD
TZOFFSETFROM:+0200
TZOFFSETTO:+0100
TZNAME:CET
DTSTART:20221030T010000
END:STANDARD
END:VTIMEZONE
BEGIN:VEVENT
DTSTART;VALUE=DATE:20221023
DTEND;VALUE=DATE:20221024
DTSTAMP:20260422T110020
CREATED:20220916T084533Z
LAST-MODIFIED:20220916T084533Z
UID:9507-1666483200-1666569599@collector95.fr
SUMMARY:AUTO RETRO CORMEILLOIS 23 OCTOBRE 2022 CORMEILLES EN VEXIN (95)
DESCRIPTION:
URL:https://collector95.fr/expos/auto-retro-cormeillois-23-octobre-2022-cormeilles-en-vexin-95/
ATTACH;FMTTYPE=image/jpeg:https://collector95.fr/wp-content/uploads/2022/09/auto-retro-cormeillois-2022.jpg
END:VEVENT
END:VCALENDAR