BEGIN:VCALENDAR
VERSION:2.0
PRODID:-//Collector95 - ECPv5.10.0//NONSGML v1.0//EN
CALSCALE:GREGORIAN
METHOD:PUBLISH
X-WR-CALNAME:Collector95
X-ORIGINAL-URL:https://collector95.fr
X-WR-CALDESC:évènements pour Collector95
BEGIN:VTIMEZONE
TZID:Europe/Paris
BEGIN:DAYLIGHT
TZOFFSETFROM:+0100
TZOFFSETTO:+0200
TZNAME:CEST
DTSTART:20250330T010000
END:DAYLIGHT
BEGIN:STANDARD
TZOFFSETFROM:+0200
TZOFFSETTO:+0100
TZNAME:CET
DTSTART:20251026T010000
END:STANDARD
END:VTIMEZONE
BEGIN:VEVENT
DTSTART;TZID=Europe/Paris:20250829T140000
DTEND;TZID=Europe/Paris:20250831T233000
DTSTAMP:20260422T142035
CREATED:20250721T161253Z
LAST-MODIFIED:20250721T161253Z
UID:12594-1756476000-1756683000@collector95.fr
SUMMARY:BETHUNE RETRO DU 29 AOUT AU 31 AOUT BETHUNE (62)
DESCRIPTION:
URL:https://collector95.fr/expos/bethune-retro-du-29-aout-au-31-aout-bethune-62/
ATTACH;FMTTYPE=image/jpeg:https://collector95.fr/wp-content/uploads/2025/07/bethune-retro-2025.jpg
END:VEVENT
END:VCALENDAR