BEGIN:VCALENDAR
VERSION:2.0
PRODID:-//Collector95 - ECPv5.10.0//NONSGML v1.0//EN
CALSCALE:GREGORIAN
METHOD:PUBLISH
X-WR-CALNAME:Collector95
X-ORIGINAL-URL:https://collector95.fr
X-WR-CALDESC:évènements pour Collector95
BEGIN:VTIMEZONE
TZID:Europe/Paris
BEGIN:DAYLIGHT
TZOFFSETFROM:+0100
TZOFFSETTO:+0200
TZNAME:CEST
DTSTART:20210328T010000
END:DAYLIGHT
BEGIN:STANDARD
TZOFFSETFROM:+0200
TZOFFSETTO:+0100
TZNAME:CET
DTSTART:20211031T010000
END:STANDARD
END:VTIMEZONE
BEGIN:VEVENT
DTSTART;VALUE=DATE:20210918
DTEND;VALUE=DATE:20210919
DTSTAMP:20260422T110019
CREATED:20210903T074549Z
LAST-MODIFIED:20210903T074549Z
UID:7947-1631923200-1632009599@collector95.fr
SUMMARY:EXPO BOURSE 18 SEPTEMBRE 2021 CONSERVATOIRE CITROEN AULNAY SOUS BOIS 93
DESCRIPTION:
URL:https://collector95.fr/expos/expo-bourse-18-septembre-2021-conservatoire-citroen-aulnay-sous-bois-93/
ATTACH;FMTTYPE=image/jpeg:https://collector95.fr/wp-content/uploads/2021/09/image-bourse-aulnay2021.jpg
END:VEVENT
END:VCALENDAR