BEGIN:VCALENDAR
VERSION:2.0
PRODID:-//Collector95 - ECPv5.10.0//NONSGML v1.0//EN
CALSCALE:GREGORIAN
METHOD:PUBLISH
X-WR-CALNAME:Collector95
X-ORIGINAL-URL:https://collector95.fr
X-WR-CALDESC:évènements pour Collector95
BEGIN:VTIMEZONE
TZID:Europe/Paris
BEGIN:DAYLIGHT
TZOFFSETFROM:+0100
TZOFFSETTO:+0200
TZNAME:CEST
DTSTART:20180325T010000
END:DAYLIGHT
BEGIN:STANDARD
TZOFFSETFROM:+0200
TZOFFSETTO:+0100
TZNAME:CET
DTSTART:20181028T010000
END:STANDARD
END:VTIMEZONE
BEGIN:VEVENT
DTSTART;VALUE=DATE:20180324
DTEND;VALUE=DATE:20180325
DTSTAMP:20260422T181939
CREATED:20180309T183246Z
LAST-MODIFIED:20180318T104025Z
UID:2039-1521849600-1521935999@collector95.fr
SUMMARY:GOD SAVE THE CAR 24 MARS 2018 AUTODROME LINAS-MONTLHERY
DESCRIPTION:
URL:https://collector95.fr/expos/god-save-the-24-mars-2018-autodrome-linas-montlhery/
ATTACH;FMTTYPE=image/jpeg:https://collector95.fr/wp-content/uploads/2018/03/25152228_1839061739456679_5965563422236269815_n.jpg
END:VEVENT
END:VCALENDAR