BEGIN:VCALENDAR
VERSION:2.0
PRODID:-//Collector95 - ECPv5.10.0//NONSGML v1.0//EN
CALSCALE:GREGORIAN
METHOD:PUBLISH
X-WR-CALNAME:Collector95
X-ORIGINAL-URL:https://collector95.fr
X-WR-CALDESC:évènements pour Collector95
BEGIN:VTIMEZONE
TZID:Europe/Paris
BEGIN:DAYLIGHT
TZOFFSETFROM:+0100
TZOFFSETTO:+0200
TZNAME:CEST
DTSTART:20210328T010000
END:DAYLIGHT
BEGIN:STANDARD
TZOFFSETFROM:+0200
TZOFFSETTO:+0100
TZNAME:CET
DTSTART:20211031T010000
END:STANDARD
END:VTIMEZONE
BEGIN:VEVENT
DTSTART;TZID=Europe/Paris:20211016T080000
DTEND;TZID=Europe/Paris:20211016T170000
DTSTAMP:20260420T203250
CREATED:20210331T053155Z
LAST-MODIFIED:20210903T080332Z
UID:6517-1634371200-1634403600@collector95.fr
SUMMARY:ITALIAN MEETING 16 OCTOBRE 2021 AUTODROME DE LINAS MONTLHERY 2021
DESCRIPTION:
URL:https://collector95.fr/expos/italian-meeting-16-octobre-2021-autodrome-de-linas-montlhery-2021/
ATTACH;FMTTYPE=image/jpeg:https://collector95.fr/wp-content/uploads/2021/03/240819845_1814838748701816_8313148091342359874_n.jpg-ITALIAN-MEETING.jpg
END:VEVENT
END:VCALENDAR