BEGIN:VCALENDAR
VERSION:2.0
PRODID:-//Collector95 - ECPv5.10.0//NONSGML v1.0//EN
CALSCALE:GREGORIAN
METHOD:PUBLISH
X-WR-CALNAME:Collector95
X-ORIGINAL-URL:https://collector95.fr
X-WR-CALDESC:évènements pour Collector95
BEGIN:VTIMEZONE
TZID:Europe/Paris
BEGIN:DAYLIGHT
TZOFFSETFROM:+0100
TZOFFSETTO:+0200
TZNAME:CEST
DTSTART:20250330T010000
END:DAYLIGHT
BEGIN:STANDARD
TZOFFSETFROM:+0200
TZOFFSETTO:+0100
TZNAME:CET
DTSTART:20251026T010000
END:STANDARD
END:VTIMEZONE
BEGIN:VEVENT
DTSTART;TZID=Europe/Paris:20250531T090000
DTEND;TZID=Europe/Paris:20250601T183000
DTSTAMP:20260422T193530
CREATED:20250218T151707Z
LAST-MODIFIED:20250218T151707Z
UID:12367-1748682000-1748802600@collector95.fr
SUMMARY:JAP N CAR FESTIVAL 31 MAI ET 1 JUIN 2025 AUTODROME DE LINAS MONTLHERY (91)
DESCRIPTION:
URL:https://collector95.fr/expos/jap-n-car-festival-31-mai-et-1-juin-2025-autodrome-de-linas-montlhery-91/
ATTACH;FMTTYPE=image/jpeg:https://collector95.fr/wp-content/uploads/2025/02/JAP-N-CAR-FESTIVAL-2025.jpg
END:VEVENT
END:VCALENDAR