BEGIN:VCALENDAR
VERSION:2.0
PRODID:-//Collector95 - ECPv5.10.0//NONSGML v1.0//EN
CALSCALE:GREGORIAN
METHOD:PUBLISH
X-WR-CALNAME:Collector95
X-ORIGINAL-URL:https://collector95.fr
X-WR-CALDESC:évènements pour Collector95
BEGIN:VTIMEZONE
TZID:Europe/Paris
BEGIN:DAYLIGHT
TZOFFSETFROM:+0100
TZOFFSETTO:+0200
TZNAME:CEST
DTSTART:20260329T010000
END:DAYLIGHT
BEGIN:STANDARD
TZOFFSETFROM:+0200
TZOFFSETTO:+0100
TZNAME:CET
DTSTART:20261025T010000
END:STANDARD
END:VTIMEZONE
BEGIN:VEVENT
DTSTART;TZID=Europe/Paris:20260523T100000
DTEND;TZID=Europe/Paris:20260524T180000
DTSTAMP:20260421T085532
CREATED:20251205T171133Z
LAST-MODIFIED:20251205T171133Z
UID:13295-1779530400-1779645600@collector95.fr
SUMMARY:KOOL DAY 23 ET 24 MAI 2026 GARGENVILE (78)
DESCRIPTION:
URL:https://collector95.fr/expos/kool-day-23-et-24-mai-2026-gargenvile-78/
ATTACH;FMTTYPE=image/jpeg:https://collector95.fr/wp-content/uploads/2025/12/FB_IMG_1763574280776.jpg
END:VEVENT
END:VCALENDAR