BEGIN:VCALENDAR
VERSION:2.0
PRODID:-//Collector95 - ECPv5.10.0//NONSGML v1.0//EN
CALSCALE:GREGORIAN
METHOD:PUBLISH
X-WR-CALNAME:Collector95
X-ORIGINAL-URL:https://collector95.fr
X-WR-CALDESC:évènements pour Collector95
BEGIN:VTIMEZONE
TZID:Europe/Paris
BEGIN:DAYLIGHT
TZOFFSETFROM:+0100
TZOFFSETTO:+0200
TZNAME:CEST
DTSTART:20210328T010000
END:DAYLIGHT
BEGIN:STANDARD
TZOFFSETFROM:+0200
TZOFFSETTO:+0100
TZNAME:CET
DTSTART:20211031T010000
END:STANDARD
END:VTIMEZONE
BEGIN:VEVENT
DTSTART;VALUE=DATE:20210529
DTEND;VALUE=DATE:20210530
DTSTAMP:20260420T144303
CREATED:20210509T155856Z
LAST-MODIFIED:20210509T155856Z
UID:7393-1622246400-1622332799@collector95.fr
SUMMARY:LIBERTE EGALITE ROULEZ  29 MAI 2021 AUTODROME LINAS MONTLHERY 91
DESCRIPTION:
URL:https://collector95.fr/expos/liberte-egalite-roulez-29-mai-2021-autodrome-linas-montlhery-91/
ATTACH;FMTTYPE=image/jpeg:https://collector95.fr/wp-content/uploads/2021/05/2021liberte-egalite-roulez.jpg
END:VEVENT
END:VCALENDAR