BEGIN:VCALENDAR
VERSION:2.0
PRODID:-//Collector95 - ECPv5.10.0//NONSGML v1.0//EN
CALSCALE:GREGORIAN
METHOD:PUBLISH
X-WR-CALNAME:Collector95
X-ORIGINAL-URL:https://collector95.fr
X-WR-CALDESC:évènements pour Collector95
BEGIN:VTIMEZONE
TZID:Europe/Paris
BEGIN:DAYLIGHT
TZOFFSETFROM:+0100
TZOFFSETTO:+0200
TZNAME:CEST
DTSTART:20200329T010000
END:DAYLIGHT
BEGIN:STANDARD
TZOFFSETFROM:+0200
TZOFFSETTO:+0100
TZNAME:CET
DTSTART:20201025T010000
END:STANDARD
END:VTIMEZONE
BEGIN:VEVENT
DTSTART;TZID=Europe/Paris:20200307T093000
DTEND;TZID=Europe/Paris:20200308T190000
DTSTAMP:20260422T111013
CREATED:20191031T134257Z
LAST-MODIFIED:20191031T134257Z
UID:3307-1583573400-1583694000@collector95.fr
SUMMARY:SALON CHAMPENOIS DU VEHICULE DE COLLECTION 7 ET 8 MARS REIMS
DESCRIPTION:
URL:https://collector95.fr/expos/salon-champenois-du-vehicule-de-collection-7-et-8-mars-reims/
ATTACH;FMTTYPE=image/jpeg:https://collector95.fr/wp-content/uploads/2019/10/SALON-CHAMPENOIS-REIMS-7-ET-8-MARS-2020-.jpg
END:VEVENT
END:VCALENDAR